BEGIN:VCALENDAR
VERSION:2.0
PRODID:-//eventon.com NONSGML v1.0//EN
CALSCALE:GREGORIAN
METHOD:PUBLISH
BEGIN:VEVENT
UID:69e8a0498b814
DTSTAMP:20260422T101745Z
DTSTART:20250715
DTEND:20250716
LOCATION:
SUMMARY:DRDO races
DESCRIPTION:DRDO races\nhttps://www.witteraaf.racing/agenda-1/drdo-races-3/
URL:https://www.witteraaf.racing/agenda-1/drdo-races-3/
END:VEVENT
END:VCALENDAR